DSET outputarr
UNDEF -.999000E+03
OPTIONS SEQUENTIAL
OPTIONS BYTESWAPPED
OPTIONS TEMPLATE
TITLE UN-NAMED
*
XDEF 72 LINEAR -180. 5.0
YDEF 46 LINEAR -90. 4.0
ZDEF 0 LINEAR 1 1
TDEF 1 LINEAR NOV2000 6hr
*
VARS 1
a 0 99 var
ENDVARS
